BEGIN:VCALENDAR
VERSION:2.0
PRODID:-//wp-events-plugin.com//7.2.3.1//EN
TZID:Europe/Helsinki
X-WR-TIMEZONE:Europe/Helsinki
BEGIN:VEVENT
UID:96@lakimiesyhdistys.fi
DTSTART;TZID=Europe/Helsinki:20251114T130000
DTEND;TZID=Europe/Helsinki:20251114T130000
DTSTAMP:20251110T064930Z
URL:https://www.lakimiesyhdistys.fi/tapahtumat/vaalikokous-ja-oikeuskulttu
 urin-paiva-5/
SUMMARY:Suomalaisen Lakimiesyhdistyksen vaalikokous
DESCRIPTION:
LOCATION:Helsingin yliopiston kielikeskuksen juhlasali\, Fabianinkatu 26\, 
 00100 HELSINKI\, Suomi
GEO:60.170865;24.948882
X-APPLE-STRUCTURED-LOCATION;VALUE=URI;X-ADDRESS=Fabianinkatu 26\, 00100 HEL
 SINKI\, Suomi;X-APPLE-RADIUS=100;X-TITLE=Helsingin yliopiston kielikeskuks
 en juhlasali:geo:60.170865,24.948882
END:VEVENT
BEGIN:VTIMEZONE
TZID:Europe/Helsinki
X-LIC-LOCATION:Europe/Helsinki
BEGIN:STANDARD
DTSTART:20251026T030000
TZOFFSETFROM:+0300
TZOFFSETTO:+0200
TZNAME:EET
END:STANDARD
END:VTIMEZONE
END:VCALENDAR