BEGIN:VCALENDAR
VERSION:2.0
PRODID:-//wp-events-plugin.com//7.2.3.1//EN
TZID:Europe/Helsinki
X-WR-TIMEZONE:Europe/Helsinki
BEGIN:VEVENT
UID:100@lakimiesyhdistys.fi
DTSTART;TZID=Europe/Helsinki:20260210T170000
DTEND;TZID=Europe/Helsinki:20260210T190000
DTSTAMP:20260210T101702Z
URL:https://www.lakimiesyhdistys.fi/tapahtumat/helmikuun-jasentilaisuus-9/
SUMMARY:Helmikuun jäsentilaisuus: Ajankohtaista siviiliprosessioikeudessa
DESCRIPTION:Kahvitarjoilu klo 16.30 alkaen.\n\nPuheenvuorot:\n\n– väitö
 skirjatutkija Alexander Nybonn\, Helsingin yliopisto: Riita-asioiden valmi
 stelu: Vertailu Suomen\, Ruotsin ja Norjan välillä\n\n– lainsäädänt
 öneuvos Jukka Siro\, oikeusministeriö: Ajankohtaisia lainvalmisteluhankk
 eita siviiliprosessioikeuden alalla\n\n– hovioikeudenneuvos\, työeläm
 äprofessori Mirjami Paso\, Helsingin hovioikeus: Nopeammin\, halvemmalla\
 , oikeudenmukaisesti – mihin siviiliprosessin pitäisi taipua?\n\nPuheen
 johtaja oikeusneuvos Juha Mäkelä.\n\nIlmoittautuminen tilaisuuteen on p
 äättynyt.\n\nTilaisuutta voi seurata myös etänä. Liity mukaan tapahtu
 maan tästä linkistä.
LOCATION:Lakimiesyhdistyksen toimisto\, Vuorikatu 5\, katutaso\, 00100 HELS
 INKI\, Suomi
GEO:60.170794;24.947816
X-APPLE-STRUCTURED-LOCATION;VALUE=URI;X-ADDRESS=Vuorikatu 5\, katutaso\, 00
 100 HELSINKI\, Suomi;X-APPLE-RADIUS=100;X-TITLE=Lakimiesyhdistyksen toimis
 to:geo:60.170794,24.947816
END:VEVENT
BEGIN:VTIMEZONE
TZID:Europe/Helsinki
X-LIC-LOCATION:Europe/Helsinki
BEGIN:STANDARD
DTSTART:20251026T030000
TZOFFSETFROM:+0300
TZOFFSETTO:+0200
TZNAME:EET
END:STANDARD
END:VTIMEZONE
END:VCALENDAR